BEGIN:VCALENDAR
VERSION:2.0
PRODID:-//FIT Academy: Certified Data Management Professional Courses - ECPv6.15.20//NONSGML v1.0//EN
CALSCALE:GREGORIAN
METHOD:PUBLISH
X-WR-CALNAME:FIT Academy: Certified Data Management Professional Courses
X-ORIGINAL-URL:https://fitacademy.fit
X-WR-CALDESC:Events for FIT Academy: Certified Data Management Professional Courses
REFRESH-INTERVAL;VALUE=DURATION:PT1H
X-Robots-Tag:noindex
X-PUBLISHED-TTL:PT1H
BEGIN:VTIMEZONE
TZID:Europe/Madrid
BEGIN:DAYLIGHT
TZOFFSETFROM:+0100
TZOFFSETTO:+0200
TZNAME:CEST
DTSTART:20250330T010000
END:DAYLIGHT
BEGIN:STANDARD
TZOFFSETFROM:+0200
TZOFFSETTO:+0100
TZNAME:CET
DTSTART:20251026T010000
END:STANDARD
BEGIN:DAYLIGHT
TZOFFSETFROM:+0100
TZOFFSETTO:+0200
TZNAME:CEST
DTSTART:20260329T010000
END:DAYLIGHT
BEGIN:STANDARD
TZOFFSETFROM:+0200
TZOFFSETTO:+0100
TZNAME:CET
DTSTART:20261025T010000
END:STANDARD
BEGIN:DAYLIGHT
TZOFFSETFROM:+0100
TZOFFSETTO:+0200
TZNAME:CEST
DTSTART:20270328T010000
END:DAYLIGHT
BEGIN:STANDARD
TZOFFSETFROM:+0200
TZOFFSETTO:+0100
TZNAME:CET
DTSTART:20271031T010000
END:STANDARD
END:VTIMEZONE
BEGIN:VEVENT
DTSTART;TZID=Europe/Madrid:20260421T100000
DTEND;TZID=Europe/Madrid:20260421T170000
DTSTAMP:20260421T101347
CREATED:20250602T155533Z
LAST-MODIFIED:20251221T180623Z
UID:10000049-1776765600-1776790800@fitacademy.fit
SUMMARY:The DCAM v3 Framework Training and Certification
DESCRIPTION:The DCAM v3 Framework Training and Certification
URL:https://fitacademy.fit/event/the-dcam-v3-framework-training-and-certification/2026-04-21/
CATEGORIES:Data Manager Learning Path,Upcoming Courses
END:VEVENT
BEGIN:VEVENT
DTSTART;TZID=Europe/Madrid:20260421T143000
DTEND;TZID=Europe/Madrid:20260421T180000
DTSTAMP:20260421T101347
CREATED:20250602T151743Z
LAST-MODIFIED:20251221T165428Z
UID:10000030-1776781800-1776794400@fitacademy.fit
SUMMARY:DAMA Data Governance Specialist Course | Cohort 1
DESCRIPTION:Data Governance Specialization
URL:https://fitacademy.fit/event/dama-data-governance-specialist-course-cohort-1/2026-04-21/
CATEGORIES:CDMP Practitioner Path,Certified Data Quality & Governance Specialization,Upcoming Courses
END:VEVENT
BEGIN:VEVENT
DTSTART;TZID=Europe/Madrid:20260423T143000
DTEND;TZID=Europe/Madrid:20260423T180000
DTSTAMP:20260421T101347
CREATED:20250625T221627Z
LAST-MODIFIED:20251221T205426Z
UID:10000022-1776954600-1776967200@fitacademy.fit
SUMMARY:Data & Personality: How Different Styles Shape Data Work
DESCRIPTION:Data & Personality: How Different Styles Shape Data-Driven Work
URL:https://fitacademy.fit/event/data-personality-how-different-styles-shape-data-work/
CATEGORIES:CDMP Practitioner Path,Data Manager Learning Path,Upcoming Courses
END:VEVENT
BEGIN:VEVENT
DTSTART;TZID=Europe/Madrid:20260428T143000
DTEND;TZID=Europe/Madrid:20260428T180000
DTSTAMP:20260421T101347
CREATED:20251221T223004Z
LAST-MODIFIED:20251221T223004Z
UID:10000081-1777386600-1777399200@fitacademy.fit
SUMMARY:Data Management Fundamentals CDMP Exam Preparation | Cohort 3
DESCRIPTION:Data Management Fundamentals CDMP Exam Preparation
URL:https://fitacademy.fit/event/data-management-fundamentals-cdmp-exam-preparation-cohort-3-2/2026-04-28/
CATEGORIES:Advanced Data Engineering Certificate|,AI & Data Science Pathway,CDMP Practitioner Path,Certified Data Quality & Governance Specialization,Upcoming Courses
END:VEVENT
BEGIN:VEVENT
DTSTART;TZID=Europe/Madrid:20260429T143000
DTEND;TZID=Europe/Madrid:20260429T180000
DTSTAMP:20260421T101348
CREATED:20251221T223004Z
LAST-MODIFIED:20251221T223004Z
UID:10000082-1777473000-1777485600@fitacademy.fit
SUMMARY:Data Management Fundamentals CDMP Exam Preparation | Cohort 3
DESCRIPTION:Data Management Fundamentals CDMP Exam Preparation
URL:https://fitacademy.fit/event/data-management-fundamentals-cdmp-exam-preparation-cohort-3-2/2026-04-29/
CATEGORIES:Advanced Data Engineering Certificate|,AI & Data Science Pathway,CDMP Practitioner Path,Certified Data Quality & Governance Specialization,Upcoming Courses
END:VEVENT
BEGIN:VEVENT
DTSTART;TZID=Europe/Madrid:20260505T143000
DTEND;TZID=Europe/Madrid:20260505T180000
DTSTAMP:20260421T101348
CREATED:20251221T223004Z
LAST-MODIFIED:20251221T223004Z
UID:10000083-1777991400-1778004000@fitacademy.fit
SUMMARY:Data Management Fundamentals CDMP Exam Preparation | Cohort 3
DESCRIPTION:Data Management Fundamentals CDMP Exam Preparation
URL:https://fitacademy.fit/event/data-management-fundamentals-cdmp-exam-preparation-cohort-3-2/2026-05-05/
CATEGORIES:Advanced Data Engineering Certificate|,AI & Data Science Pathway,CDMP Practitioner Path,Certified Data Quality & Governance Specialization,Upcoming Courses
END:VEVENT
BEGIN:VEVENT
DTSTART;TZID=Europe/Madrid:20260506T143000
DTEND;TZID=Europe/Madrid:20260506T180000
DTSTAMP:20260421T101348
CREATED:20251221T223004Z
LAST-MODIFIED:20251221T223004Z
UID:10000084-1778077800-1778090400@fitacademy.fit
SUMMARY:Data Management Fundamentals CDMP Exam Preparation | Cohort 3
DESCRIPTION:Data Management Fundamentals CDMP Exam Preparation
URL:https://fitacademy.fit/event/data-management-fundamentals-cdmp-exam-preparation-cohort-3-2/2026-05-06/
CATEGORIES:Advanced Data Engineering Certificate|,AI & Data Science Pathway,CDMP Practitioner Path,Certified Data Quality & Governance Specialization,Upcoming Courses
END:VEVENT
BEGIN:VEVENT
DTSTART;TZID=Europe/Madrid:20260507T143000
DTEND;TZID=Europe/Madrid:20260507T180000
DTSTAMP:20260421T101348
CREATED:20251221T223004Z
LAST-MODIFIED:20251221T223004Z
UID:10000085-1778164200-1778176800@fitacademy.fit
SUMMARY:Data Management Fundamentals CDMP Exam Preparation | Cohort 3
DESCRIPTION:Data Management Fundamentals CDMP Exam Preparation
URL:https://fitacademy.fit/event/data-management-fundamentals-cdmp-exam-preparation-cohort-3-2/2026-05-07/
CATEGORIES:Advanced Data Engineering Certificate|,AI & Data Science Pathway,CDMP Practitioner Path,Certified Data Quality & Governance Specialization,Upcoming Courses
END:VEVENT
BEGIN:VEVENT
DTSTART;TZID=Europe/Madrid:20260512T143000
DTEND;TZID=Europe/Madrid:20260512T180000
DTSTAMP:20260421T101348
CREATED:20250602T154614Z
LAST-MODIFIED:20251221T172316Z
UID:10000037-1778596200-1778608800@fitacademy.fit
SUMMARY:DAMA Data Quality Specialist Course | Cohort 1
DESCRIPTION:Data Quality Specialization
URL:https://fitacademy.fit/event/dama-data-quality-specialist-course-cohort-1/2026-05-12/
CATEGORIES:Advanced Data Engineering Certificate|,CDMP Practitioner Path,Certified Data Quality & Governance Specialization,Upcoming Courses
END:VEVENT
BEGIN:VEVENT
DTSTART;TZID=Europe/Madrid:20260514T143000
DTEND;TZID=Europe/Madrid:20260514T180000
DTSTAMP:20260421T101348
CREATED:20250602T154614Z
LAST-MODIFIED:20251221T172316Z
UID:10000038-1778769000-1778781600@fitacademy.fit
SUMMARY:DAMA Data Quality Specialist Course | Cohort 1
DESCRIPTION:Data Quality Specialization
URL:https://fitacademy.fit/event/dama-data-quality-specialist-course-cohort-1/2026-05-14/
CATEGORIES:Advanced Data Engineering Certificate|,CDMP Practitioner Path,Certified Data Quality & Governance Specialization,Upcoming Courses
END:VEVENT
BEGIN:VEVENT
DTSTART;TZID=Europe/Madrid:20260519T143000
DTEND;TZID=Europe/Madrid:20260519T180000
DTSTAMP:20260421T101348
CREATED:20250602T154614Z
LAST-MODIFIED:20251221T172316Z
UID:10000039-1779201000-1779213600@fitacademy.fit
SUMMARY:DAMA Data Quality Specialist Course | Cohort 1
DESCRIPTION:Data Quality Specialization
URL:https://fitacademy.fit/event/dama-data-quality-specialist-course-cohort-1/2026-05-19/
CATEGORIES:Advanced Data Engineering Certificate|,CDMP Practitioner Path,Certified Data Quality & Governance Specialization,Upcoming Courses
END:VEVENT
BEGIN:VEVENT
DTSTART;TZID=Europe/Madrid:20260604T143000
DTEND;TZID=Europe/Madrid:20260604T180000
DTSTAMP:20260421T101348
CREATED:20251221T210937Z
LAST-MODIFIED:20251221T211043Z
UID:10000055-1780583400-1780596000@fitacademy.fit
SUMMARY:Computational Thinking for Problem Solving
DESCRIPTION:Computational Thinking for Problem Solving \n \n 
URL:https://fitacademy.fit/event/computational-thinking/
CATEGORIES:CDMP Practitioner Path,Data Manager Learning Path,Upcoming Courses
END:VEVENT
BEGIN:VEVENT
DTSTART;TZID=Europe/Madrid:20260609T143000
DTEND;TZID=Europe/Madrid:20260609T173000
DTSTAMP:20260421T101348
CREATED:20250602T155623Z
LAST-MODIFIED:20251221T215423Z
UID:10000057-1781015400-1781026200@fitacademy.fit
SUMMARY:Effective Data Governance Strategies
DESCRIPTION:Effective Data Governance Strategies
URL:https://fitacademy.fit/event/effective-data-governance-strategies/2026-06-09/
CATEGORIES:Certified Data Quality & Governance Specialization,Upcoming Courses
END:VEVENT
BEGIN:VEVENT
DTSTART;TZID=Europe/Madrid:20260610T143000
DTEND;TZID=Europe/Madrid:20260610T173000
DTSTAMP:20260421T101348
CREATED:20250602T155623Z
LAST-MODIFIED:20251221T215423Z
UID:10000058-1781101800-1781112600@fitacademy.fit
SUMMARY:Effective Data Governance Strategies
DESCRIPTION:Effective Data Governance Strategies
URL:https://fitacademy.fit/event/effective-data-governance-strategies/2026-06-10/
CATEGORIES:Certified Data Quality & Governance Specialization,Upcoming Courses
END:VEVENT
BEGIN:VEVENT
DTSTART;TZID=Europe/Madrid:20260616T143000
DTEND;TZID=Europe/Madrid:20260616T173000
DTSTAMP:20260421T101348
CREATED:20250602T155623Z
LAST-MODIFIED:20251221T215423Z
UID:10000059-1781620200-1781631000@fitacademy.fit
SUMMARY:Effective Data Governance Strategies
DESCRIPTION:Effective Data Governance Strategies
URL:https://fitacademy.fit/event/effective-data-governance-strategies/2026-06-16/
CATEGORIES:Certified Data Quality & Governance Specialization,Upcoming Courses
END:VEVENT
BEGIN:VEVENT
DTSTART;TZID=Europe/Madrid:20260617T143000
DTEND;TZID=Europe/Madrid:20260617T173000
DTSTAMP:20260421T101348
CREATED:20250602T155623Z
LAST-MODIFIED:20251221T215423Z
UID:10000060-1781706600-1781717400@fitacademy.fit
SUMMARY:Effective Data Governance Strategies
DESCRIPTION:Effective Data Governance Strategies
URL:https://fitacademy.fit/event/effective-data-governance-strategies/2026-06-17/
CATEGORIES:Certified Data Quality & Governance Specialization,Upcoming Courses
END:VEVENT
BEGIN:VEVENT
DTSTART;TZID=Europe/Madrid:20260623T140000
DTEND;TZID=Europe/Madrid:20260623T180000
DTSTAMP:20260421T101348
CREATED:20250530T173254Z
LAST-MODIFIED:20251221T171920Z
UID:10000008-1782223200-1782237600@fitacademy.fit
SUMMARY:Generative AI for Data Management
DESCRIPTION:Generative AI for Data Management
URL:https://fitacademy.fit/event/ai-driven-business-intelligence-3/
CATEGORIES:AI & Data Science Pathway,Upcoming Courses
END:VEVENT
BEGIN:VEVENT
DTSTART;TZID=Europe/Madrid:20260623T140000
DTEND;TZID=Europe/Madrid:20260623T180000
DTSTAMP:20260421T101348
CREATED:20250602T152721Z
LAST-MODIFIED:20251221T220307Z
UID:10000015-1782223200-1782237600@fitacademy.fit
SUMMARY:Generative AI Data Management
DESCRIPTION:Generative AI for Data Management \n \n 
URL:https://fitacademy.fit/event/generative-ai-data-management/
CATEGORIES:Upcoming Courses
END:VEVENT
BEGIN:VEVENT
DTSTART;TZID=Europe/Madrid:20260623T143000
DTEND;TZID=Europe/Madrid:20260623T180000
DTSTAMP:20260421T101348
CREATED:20251221T223513Z
LAST-MODIFIED:20251221T223513Z
UID:10000091-1782225000-1782237600@fitacademy.fit
SUMMARY:Data Management Fundamentals CDMP Exam Preparation | Cohort 4
DESCRIPTION:Data Management Fundamentals CDMP Exam Preparation
URL:https://fitacademy.fit/event/data-management-fundamentals-cdmp-exam-preparation-cohort-4-2/2026-06-23/
CATEGORIES:Advanced Data Engineering Certificate|,AI & Data Science Pathway,CDMP Practitioner Path,Certified Data Quality & Governance Specialization,Upcoming Courses
END:VEVENT
BEGIN:VEVENT
DTSTART;TZID=Europe/Madrid:20260624T143000
DTEND;TZID=Europe/Madrid:20260624T180000
DTSTAMP:20260421T101348
CREATED:20251221T223513Z
LAST-MODIFIED:20251221T223513Z
UID:10000092-1782311400-1782324000@fitacademy.fit
SUMMARY:Data Management Fundamentals CDMP Exam Preparation | Cohort 4
DESCRIPTION:Data Management Fundamentals CDMP Exam Preparation
URL:https://fitacademy.fit/event/data-management-fundamentals-cdmp-exam-preparation-cohort-4-2/2026-06-24/
CATEGORIES:Advanced Data Engineering Certificate|,AI & Data Science Pathway,CDMP Practitioner Path,Certified Data Quality & Governance Specialization,Upcoming Courses
END:VEVENT
BEGIN:VEVENT
DTSTART;TZID=Europe/Madrid:20260630T140000
DTEND;TZID=Europe/Madrid:20260630T180000
DTSTAMP:20260421T101348
CREATED:20250602T151422Z
LAST-MODIFIED:20251221T213139Z
UID:10000009-1782828000-1782842400@fitacademy.fit
SUMMARY:AI Ethics & Responsible AI
DESCRIPTION:AI Ethics & Responsible AI
URL:https://fitacademy.fit/event/ai-ethics-responsible-ai/
CATEGORIES:AI & Data Science Pathway,Upcoming Courses
END:VEVENT
BEGIN:VEVENT
DTSTART;TZID=Europe/Madrid:20260630T143000
DTEND;TZID=Europe/Madrid:20260630T180000
DTSTAMP:20260421T101348
CREATED:20251221T223513Z
LAST-MODIFIED:20251221T223513Z
UID:10000093-1782829800-1782842400@fitacademy.fit
SUMMARY:Data Management Fundamentals CDMP Exam Preparation | Cohort 4
DESCRIPTION:Data Management Fundamentals CDMP Exam Preparation
URL:https://fitacademy.fit/event/data-management-fundamentals-cdmp-exam-preparation-cohort-4-2/2026-06-30/
CATEGORIES:Advanced Data Engineering Certificate|,AI & Data Science Pathway,CDMP Practitioner Path,Certified Data Quality & Governance Specialization,Upcoming Courses
END:VEVENT
BEGIN:VEVENT
DTSTART;TZID=Europe/Madrid:20260701T143000
DTEND;TZID=Europe/Madrid:20260701T180000
DTSTAMP:20260421T101348
CREATED:20251221T223513Z
LAST-MODIFIED:20251221T223513Z
UID:10000094-1782916200-1782928800@fitacademy.fit
SUMMARY:Data Management Fundamentals CDMP Exam Preparation | Cohort 4
DESCRIPTION:Data Management Fundamentals CDMP Exam Preparation
URL:https://fitacademy.fit/event/data-management-fundamentals-cdmp-exam-preparation-cohort-4-2/2026-07-01/
CATEGORIES:Advanced Data Engineering Certificate|,AI & Data Science Pathway,CDMP Practitioner Path,Certified Data Quality & Governance Specialization,Upcoming Courses
END:VEVENT
BEGIN:VEVENT
DTSTART;TZID=Europe/Madrid:20260702T143000
DTEND;TZID=Europe/Madrid:20260702T180000
DTSTAMP:20260421T101348
CREATED:20251221T223513Z
LAST-MODIFIED:20251221T223513Z
UID:10000095-1783002600-1783015200@fitacademy.fit
SUMMARY:Data Management Fundamentals CDMP Exam Preparation | Cohort 4
DESCRIPTION:Data Management Fundamentals CDMP Exam Preparation
URL:https://fitacademy.fit/event/data-management-fundamentals-cdmp-exam-preparation-cohort-4-2/2026-07-02/
CATEGORIES:Advanced Data Engineering Certificate|,AI & Data Science Pathway,CDMP Practitioner Path,Certified Data Quality & Governance Specialization,Upcoming Courses
END:VEVENT
BEGIN:VEVENT
DTSTART;TZID=Europe/Madrid:20260709T140000
DTEND;TZID=Europe/Madrid:20260709T180000
DTSTAMP:20260421T101348
CREATED:20250528T181128Z
LAST-MODIFIED:20251221T212633Z
UID:10000001-1783605600-1783620000@fitacademy.fit
SUMMARY:AI Driven Business Intelligence
DESCRIPTION:AI Driven Business Intelligence
URL:https://fitacademy.fit/event/ai-driven-business-intelligence/
CATEGORIES:AI & Data Science Pathway,Upcoming Courses
END:VEVENT
BEGIN:VEVENT
DTSTART;TZID=Europe/Madrid:20260921T143000
DTEND;TZID=Europe/Madrid:20260921T180000
DTSTAMP:20260421T101348
CREATED:20250602T151945Z
LAST-MODIFIED:20251221T175448Z
UID:10000046-1790001000-1790013600@fitacademy.fit
SUMMARY:DAMA Data Integration and Interoperability Specialization
DESCRIPTION:Data Integration and Interoperability Specialization
URL:https://fitacademy.fit/event/dama-data-integration-and-interoperability-specialization/2026-09-21/
CATEGORIES:Advanced Data Engineering Certificate|,Upcoming Courses
END:VEVENT
BEGIN:VEVENT
DTSTART;TZID=Europe/Madrid:20260922T143000
DTEND;TZID=Europe/Madrid:20260922T180000
DTSTAMP:20260421T101348
CREATED:20251221T223756Z
LAST-MODIFIED:20251221T223756Z
UID:10000101-1790087400-1790100000@fitacademy.fit
SUMMARY:Data Management Fundamentals CDMP Exam Preparation | Cohort 5
DESCRIPTION:Data Management Fundamentals CDMP Exam Preparation
URL:https://fitacademy.fit/event/data-management-fundamentals-cdmp-exam-preparation-cohort-5/2026-09-22/
CATEGORIES:Advanced Data Engineering Certificate|,AI & Data Science Pathway,CDMP Practitioner Path,Certified Data Quality & Governance Specialization,Upcoming Courses
END:VEVENT
BEGIN:VEVENT
DTSTART;TZID=Europe/Madrid:20260923T143000
DTEND;TZID=Europe/Madrid:20260923T180000
DTSTAMP:20260421T101348
CREATED:20250602T151945Z
LAST-MODIFIED:20251221T175448Z
UID:10000047-1790173800-1790186400@fitacademy.fit
SUMMARY:DAMA Data Integration and Interoperability Specialization
DESCRIPTION:Data Integration and Interoperability Specialization
URL:https://fitacademy.fit/event/dama-data-integration-and-interoperability-specialization/2026-09-23/
CATEGORIES:Advanced Data Engineering Certificate|,Upcoming Courses
END:VEVENT
BEGIN:VEVENT
DTSTART;TZID=Europe/Madrid:20260923T143000
DTEND;TZID=Europe/Madrid:20260923T180000
DTSTAMP:20260421T101348
CREATED:20251221T223756Z
LAST-MODIFIED:20251221T223756Z
UID:10000102-1790173800-1790186400@fitacademy.fit
SUMMARY:Data Management Fundamentals CDMP Exam Preparation | Cohort 5
DESCRIPTION:Data Management Fundamentals CDMP Exam Preparation
URL:https://fitacademy.fit/event/data-management-fundamentals-cdmp-exam-preparation-cohort-5/2026-09-23/
CATEGORIES:Advanced Data Engineering Certificate|,AI & Data Science Pathway,CDMP Practitioner Path,Certified Data Quality & Governance Specialization,Upcoming Courses
END:VEVENT
BEGIN:VEVENT
DTSTART;TZID=Europe/Madrid:20260929T143000
DTEND;TZID=Europe/Madrid:20260929T173000
DTSTAMP:20260421T101348
CREATED:20250602T155711Z
LAST-MODIFIED:20251221T220908Z
UID:10000061-1790692200-1790703000@fitacademy.fit
SUMMARY:Mastering Data Visualization
DESCRIPTION:Mastering Data Visualization
URL:https://fitacademy.fit/event/mastering-data-visualization/2026-09-29/
CATEGORIES:Advanced Data Engineering Certificate|,Upcoming Courses
END:VEVENT
END:VCALENDAR